BEGIN:VCALENDAR
VERSION:2.0
PRODID:-//Locust Hill Golf Course - ECPv6.15.18//NONSGML v1.0//EN
CALSCALE:GREGORIAN
METHOD:PUBLISH
X-ORIGINAL-URL:https://www.locusthillgolfcourse.com
X-WR-CALDESC:Events for Locust Hill Golf Course
REFRESH-INTERVAL;VALUE=DURATION:PT1H
X-Robots-Tag:noindex
X-PUBLISHED-TTL:PT1H
BEGIN:VTIMEZONE
TZID:UTC
BEGIN:STANDARD
TZOFFSETFROM:+0000
TZOFFSETTO:+0000
TZNAME:UTC
DTSTART:20250101T000000
END:STANDARD
END:VTIMEZONE
BEGIN:VEVENT
DTSTART;VALUE=DATE:20261212
DTEND;VALUE=DATE:20261213
DTSTAMP:20260421T165922
CREATED:20260217T191900Z
LAST-MODIFIED:20260217T191900Z
UID:10000014-1797033600-1797119999@www.locusthillgolfcourse.com
SUMMARY:Toys 4 Tots
DESCRIPTION:
URL:https://www.locusthillgolfcourse.com/event/toys-4-tots/
END:VEVENT
END:VCALENDAR